<?xml version="1.0" encoding="UTF-8"?>
    <Capabilities
        xmlns="http://www.opengis.net/wmts/1.0"
        xmlns:ows="http://www.opengis.net/ows/1.1"
        xmlns:xlink="http://www.w3.org/1999/xlink"
        xmlns:xsi="http://www.w3.org/2001/XMLSchema-instance"
        xmlns:gml="http://www.opengis.net/gml" xsi:schemaLocation="http://www.opengis.net/wmts/1.0 http://schemas.opengis.net/wmts/1.0/wmtsGetCapabilities_response.xsd" version="1.0.0">
        <ows:ServiceIdentification>
            <ows:Title>ProRail Luchtfoto meest recent</ows:Title>
            <ows:Abstract></ows:Abstract>
            <ows:Keywords>
                <ows:Keyword>PNG</ows:Keyword>
                <ows:Keyword>WEBP</ows:Keyword>
            </ows:Keywords>
            <ows:ServiceType>OGC WMTS</ows:ServiceType>
            <ows:ServiceTypeVersion>1.0.0</ows:ServiceTypeVersion>
            <ows:Fees>None</ows:Fees>
            <ows:AccessConstraints>None</ows:AccessConstraints>
        </ows:ServiceIdentification>
        <ows:ServiceProvider>
            <ows:ProviderName>360GEO</ows:ProviderName>
            <ows:ProviderSite xlink:href="https://360geo.nl/" />
            <ows:ServiceContact>
                <ows:IndividualName>Georizon</ows:IndividualName>
                <ows:PositionName>Georizon</ows:PositionName>
                <ows:ContactInfo>
                    <ows:Address>
                        <ows:ElectronicMailAddress>support@360geo.nl</ows:ElectronicMailAddress>
                    </ows:Address>
                </ows:ContactInfo>
            </ows:ServiceContact>
        </ows:ServiceProvider>
        <ows:OperationsMetadata>
            <ows:Operation name="GetCapabilities">
                <ows:DCP>
                    <ows:HTTP>
                        <ows:Get xlink:href="https://georizon.nl/api/wmts/tenant/0186ea4c-8682-8dbe-a57e-48bed16f143f/tile-servers/0194a709-2d58-7281-83fb-3216379b76f2?">
                            <ows:Constraint name="GetEncoding">
                                <ows:AllowedValues>
                                    <ows:Value>RESTful</ows:Value>
                                </ows:AllowedValues>
                            </ows:Constraint>
                        </ows:Get>
                    </ows:HTTP>
                </ows:DCP>
            </ows:Operation>
            <ows:Operation name="GetTile">
                <ows:DCP>
                    <ows:HTTP>
                        <ows:Get xlink:href="https://georizon.nl/api/wmts/tenant/0186ea4c-8682-8dbe-a57e-48bed16f143f/tile-servers/0194a709-2d58-7281-83fb-3216379b76f2?">
                            <ows:Constraint name="GetEncoding">
                                <ows:AllowedValues>
                                    <ows:Value>RESTful</ows:Value>
                                </ows:AllowedValues>
                            </ows:Constraint>
                        </ows:Get>
                        <ows:Get xlink:href="https://georizon.nl/api/wmts/tenant/0186ea4c-8682-8dbe-a57e-48bed16f143f/tile-servers/0194a709-2d58-7281-83fb-3216379b76f2?">
                            <ows:Constraint name="GetEncoding">
                                <ows:AllowedValues>
                                    <ows:Value>KVP</ows:Value>
                                </ows:AllowedValues>
                            </ows:Constraint>
                        </ows:Get>
                    </ows:HTTP>
                </ows:DCP>
            </ows:Operation>
        </ows:OperationsMetadata>
        <Contents>
            <Layer>
                <ows:Title>ProRail Luchtfoto meest recent</ows:Title>
                <ows:WGS84BoundingBox>
                    <ows:LowerCorner>3.0502320672450205 50.72930875603912</ows:LowerCorner>
                    <ows:UpperCorner>7.345815015026887 53.71973913052568</ows:UpperCorner>
                </ows:WGS84BoundingBox>
                <ows:Identifier>default</ows:Identifier>
                <ows:BoundingBox crs="urn:ogc:def:crs:EPSG::28992">
                    <ows:LowerCorner>646.3609077221481 306672.0223431983</ows:LowerCorner>
                    <ows:UpperCorner>284347.2501572969 637111.0244158016</ows:UpperCorner>
                </ows:BoundingBox>
                <Style isDefault="true">
                    <ows:Title>default</ows:Title>
                    <ows:Identifier>default</ows:Identifier>
                    <LegendURL format="image/png" xlink:href="https://storage.georizon.nl/tenant/0186ea4c-8682-8dbe-a57e-48bed16f143f/tile-servers/0194a709-2d58-7281-83fb-3216379b76f2/default028mm/0/0/0.png" width="256" height="256" />
                </Style>
                <Format>image/png</Format>
                <InfoFormat>text/plain</InfoFormat>
                <InfoFormat>text/XML</InfoFormat>
                <TileMatrixSetLink>
                    <TileMatrixSet>EPSG:28992</TileMatrixSet>
                    <TileMatrixSetLimits>
                        <TileMatrixLimits>
        <TileMatrix>0</TileMatrix>
        <MinTileRow>0</MinTileRow>
        <MaxTileRow>0</MaxTileRow>
        <MinTileCol>0</MinTileCol>
        <MaxTileCol>0</MaxTileCol>
    </TileMatrixLimits>
<TileMatrixLimits>
        <TileMatrix>1</TileMatrix>
        <MinTileRow>0</MinTileRow>
        <MaxTileRow>1</MaxTileRow>
        <MinTileCol>0</MinTileCol>
        <MaxTileCol>1</MaxTileCol>
    </TileMatrixLimits>
<TileMatrixLimits>
        <TileMatrix>2</TileMatrix>
        <MinTileRow>0</MinTileRow>
        <MaxTileRow>3</MaxTileRow>
        <MinTileCol>0</MinTileCol>
        <MaxTileCol>3</MaxTileCol>
    </TileMatrixLimits>
<TileMatrixLimits>
        <TileMatrix>3</TileMatrix>
        <MinTileRow>0</MinTileRow>
        <MaxTileRow>7</MaxTileRow>
        <MinTileCol>0</MinTileCol>
        <MaxTileCol>7</MaxTileCol>
    </TileMatrixLimits>
<TileMatrixLimits>
        <TileMatrix>4</TileMatrix>
        <MinTileRow>0</MinTileRow>
        <MaxTileRow>15</MaxTileRow>
        <MinTileCol>0</MinTileCol>
        <MaxTileCol>15</MaxTileCol>
    </TileMatrixLimits>
<TileMatrixLimits>
        <TileMatrix>5</TileMatrix>
        <MinTileRow>0</MinTileRow>
        <MaxTileRow>31</MaxTileRow>
        <MinTileCol>0</MinTileCol>
        <MaxTileCol>31</MaxTileCol>
    </TileMatrixLimits>
<TileMatrixLimits>
        <TileMatrix>6</TileMatrix>
        <MinTileRow>0</MinTileRow>
        <MaxTileRow>63</MaxTileRow>
        <MinTileCol>0</MinTileCol>
        <MaxTileCol>63</MaxTileCol>
    </TileMatrixLimits>
<TileMatrixLimits>
        <TileMatrix>7</TileMatrix>
        <MinTileRow>0</MinTileRow>
        <MaxTileRow>127</MaxTileRow>
        <MinTileCol>0</MinTileCol>
        <MaxTileCol>127</MaxTileCol>
    </TileMatrixLimits>
<TileMatrixLimits>
        <TileMatrix>8</TileMatrix>
        <MinTileRow>0</MinTileRow>
        <MaxTileRow>255</MaxTileRow>
        <MinTileCol>0</MinTileCol>
        <MaxTileCol>255</MaxTileCol>
    </TileMatrixLimits>
<TileMatrixLimits>
        <TileMatrix>9</TileMatrix>
        <MinTileRow>0</MinTileRow>
        <MaxTileRow>511</MaxTileRow>
        <MinTileCol>0</MinTileCol>
        <MaxTileCol>511</MaxTileCol>
    </TileMatrixLimits>
<TileMatrixLimits>
        <TileMatrix>10</TileMatrix>
        <MinTileRow>0</MinTileRow>
        <MaxTileRow>1023</MaxTileRow>
        <MinTileCol>0</MinTileCol>
        <MaxTileCol>1023</MaxTileCol>
    </TileMatrixLimits>
<TileMatrixLimits>
        <TileMatrix>11</TileMatrix>
        <MinTileRow>0</MinTileRow>
        <MaxTileRow>2047</MaxTileRow>
        <MinTileCol>0</MinTileCol>
        <MaxTileCol>2047</MaxTileCol>
    </TileMatrixLimits>
<TileMatrixLimits>
        <TileMatrix>12</TileMatrix>
        <MinTileRow>0</MinTileRow>
        <MaxTileRow>4095</MaxTileRow>
        <MinTileCol>0</MinTileCol>
        <MaxTileCol>4095</MaxTileCol>
    </TileMatrixLimits>
<TileMatrixLimits>
        <TileMatrix>13</TileMatrix>
        <MinTileRow>0</MinTileRow>
        <MaxTileRow>8191</MaxTileRow>
        <MinTileCol>0</MinTileCol>
        <MaxTileCol>8191</MaxTileCol>
    </TileMatrixLimits>
<TileMatrixLimits>
        <TileMatrix>14</TileMatrix>
        <MinTileRow>0</MinTileRow>
        <MaxTileRow>16383</MaxTileRow>
        <MinTileCol>0</MinTileCol>
        <MaxTileCol>16383</MaxTileCol>
    </TileMatrixLimits>
<TileMatrixLimits>
        <TileMatrix>15</TileMatrix>
        <MinTileRow>0</MinTileRow>
        <MaxTileRow>32767</MaxTileRow>
        <MinTileCol>0</MinTileCol>
        <MaxTileCol>32767</MaxTileCol>
    </TileMatrixLimits>
<TileMatrixLimits>
        <TileMatrix>16</TileMatrix>
        <MinTileRow>0</MinTileRow>
        <MaxTileRow>65535</MaxTileRow>
        <MinTileCol>0</MinTileCol>
        <MaxTileCol>65535</MaxTileCol>
    </TileMatrixLimits>
<TileMatrixLimits>
        <TileMatrix>17</TileMatrix>
        <MinTileRow>0</MinTileRow>
        <MaxTileRow>131071</MaxTileRow>
        <MinTileCol>0</MinTileCol>
        <MaxTileCol>131071</MaxTileCol>
    </TileMatrixLimits>
                    </TileMatrixSetLimits>
                </TileMatrixSetLink>
                <TileMatrixSetLink>
                    <TileMatrixSet>default028mm</TileMatrixSet>
                    <TileMatrixSetLimits>
                        <TileMatrixLimits>
        <TileMatrix>0</TileMatrix>
        <MinTileRow>0</MinTileRow>
        <MaxTileRow>0</MaxTileRow>
        <MinTileCol>0</MinTileCol>
        <MaxTileCol>0</MaxTileCol>
    </TileMatrixLimits>
<TileMatrixLimits>
        <TileMatrix>1</TileMatrix>
        <MinTileRow>0</MinTileRow>
        <MaxTileRow>1</MaxTileRow>
        <MinTileCol>0</MinTileCol>
        <MaxTileCol>1</MaxTileCol>
    </TileMatrixLimits>
<TileMatrixLimits>
        <TileMatrix>2</TileMatrix>
        <MinTileRow>0</MinTileRow>
        <MaxTileRow>3</MaxTileRow>
        <MinTileCol>0</MinTileCol>
        <MaxTileCol>3</MaxTileCol>
    </TileMatrixLimits>
<TileMatrixLimits>
        <TileMatrix>3</TileMatrix>
        <MinTileRow>0</MinTileRow>
        <MaxTileRow>7</MaxTileRow>
        <MinTileCol>0</MinTileCol>
        <MaxTileCol>7</MaxTileCol>
    </TileMatrixLimits>
<TileMatrixLimits>
        <TileMatrix>4</TileMatrix>
        <MinTileRow>0</MinTileRow>
        <MaxTileRow>15</MaxTileRow>
        <MinTileCol>0</MinTileCol>
        <MaxTileCol>15</MaxTileCol>
    </TileMatrixLimits>
<TileMatrixLimits>
        <TileMatrix>5</TileMatrix>
        <MinTileRow>0</MinTileRow>
        <MaxTileRow>31</MaxTileRow>
        <MinTileCol>0</MinTileCol>
        <MaxTileCol>31</MaxTileCol>
    </TileMatrixLimits>
<TileMatrixLimits>
        <TileMatrix>6</TileMatrix>
        <MinTileRow>0</MinTileRow>
        <MaxTileRow>63</MaxTileRow>
        <MinTileCol>0</MinTileCol>
        <MaxTileCol>63</MaxTileCol>
    </TileMatrixLimits>
<TileMatrixLimits>
        <TileMatrix>7</TileMatrix>
        <MinTileRow>0</MinTileRow>
        <MaxTileRow>127</MaxTileRow>
        <MinTileCol>0</MinTileCol>
        <MaxTileCol>127</MaxTileCol>
    </TileMatrixLimits>
<TileMatrixLimits>
        <TileMatrix>8</TileMatrix>
        <MinTileRow>0</MinTileRow>
        <MaxTileRow>255</MaxTileRow>
        <MinTileCol>0</MinTileCol>
        <MaxTileCol>255</MaxTileCol>
    </TileMatrixLimits>
<TileMatrixLimits>
        <TileMatrix>9</TileMatrix>
        <MinTileRow>0</MinTileRow>
        <MaxTileRow>511</MaxTileRow>
        <MinTileCol>0</MinTileCol>
        <MaxTileCol>511</MaxTileCol>
    </TileMatrixLimits>
<TileMatrixLimits>
        <TileMatrix>10</TileMatrix>
        <MinTileRow>0</MinTileRow>
        <MaxTileRow>1023</MaxTileRow>
        <MinTileCol>0</MinTileCol>
        <MaxTileCol>1023</MaxTileCol>
    </TileMatrixLimits>
<TileMatrixLimits>
        <TileMatrix>11</TileMatrix>
        <MinTileRow>0</MinTileRow>
        <MaxTileRow>2047</MaxTileRow>
        <MinTileCol>0</MinTileCol>
        <MaxTileCol>2047</MaxTileCol>
    </TileMatrixLimits>
<TileMatrixLimits>
        <TileMatrix>12</TileMatrix>
        <MinTileRow>0</MinTileRow>
        <MaxTileRow>4095</MaxTileRow>
        <MinTileCol>0</MinTileCol>
        <MaxTileCol>4095</MaxTileCol>
    </TileMatrixLimits>
<TileMatrixLimits>
        <TileMatrix>13</TileMatrix>
        <MinTileRow>0</MinTileRow>
        <MaxTileRow>8191</MaxTileRow>
        <MinTileCol>0</MinTileCol>
        <MaxTileCol>8191</MaxTileCol>
    </TileMatrixLimits>
<TileMatrixLimits>
        <TileMatrix>14</TileMatrix>
        <MinTileRow>0</MinTileRow>
        <MaxTileRow>16383</MaxTileRow>
        <MinTileCol>0</MinTileCol>
        <MaxTileCol>16383</MaxTileCol>
    </TileMatrixLimits>
<TileMatrixLimits>
        <TileMatrix>15</TileMatrix>
        <MinTileRow>0</MinTileRow>
        <MaxTileRow>32767</MaxTileRow>
        <MinTileCol>0</MinTileCol>
        <MaxTileCol>32767</MaxTileCol>
    </TileMatrixLimits>
<TileMatrixLimits>
        <TileMatrix>16</TileMatrix>
        <MinTileRow>0</MinTileRow>
        <MaxTileRow>65535</MaxTileRow>
        <MinTileCol>0</MinTileCol>
        <MaxTileCol>65535</MaxTileCol>
    </TileMatrixLimits>
<TileMatrixLimits>
        <TileMatrix>17</TileMatrix>
        <MinTileRow>0</MinTileRow>
        <MaxTileRow>131071</MaxTileRow>
        <MinTileCol>0</MinTileCol>
        <MaxTileCol>131071</MaxTileCol>
    </TileMatrixLimits>
                    </TileMatrixSetLimits>
                </TileMatrixSetLink>
                <ResourceURL format="image/png" resourceType="tile" template="https://storage.georizon.nl/tenant/0186ea4c-8682-8dbe-a57e-48bed16f143f/tile-servers/0194a709-2d58-7281-83fb-3216379b76f2/default028mm/{TileMatrix}/{TileRow}/{TileCol}.png" />
                <ResourceURL format="image/webp" resourceType="tile" template="https://storage.georizon.nl/tenant/0186ea4c-8682-8dbe-a57e-48bed16f143f/tile-servers/0194a709-2d58-7281-83fb-3216379b76f2/default028mm/{TileMatrix}/{TileRow}/{TileCol}.webp" />
            </Layer>
            <TileMatrixSet>
                <ows:Identifier>EPSG:28992</ows:Identifier>
                <ows:SupportedCRS>urn:ogc:def:crs:EPSG:6.3:28992</ows:SupportedCRS>
                <TileMatrix>
        <ows:Identifier>0</ows:Identifier>
        <ScaleDenominator>12288000.0</ScaleDenominator>
        <TopLeftCorner>-285401.92 903401.92</TopLeftCorner>
        <TileWidth>256</TileWidth>
        <TileHeight>256</TileHeight>
        <MatrixWidth>1</MatrixWidth>
        <MatrixHeight>1</MatrixHeight>
    </TileMatrix>
<TileMatrix>
        <ows:Identifier>1</ows:Identifier>
        <ScaleDenominator>6144000.0</ScaleDenominator>
        <TopLeftCorner>-285401.92 903401.92</TopLeftCorner>
        <TileWidth>256</TileWidth>
        <TileHeight>256</TileHeight>
        <MatrixWidth>2</MatrixWidth>
        <MatrixHeight>2</MatrixHeight>
    </TileMatrix>
<TileMatrix>
        <ows:Identifier>2</ows:Identifier>
        <ScaleDenominator>3072000.0</ScaleDenominator>
        <TopLeftCorner>-285401.92 903401.92</TopLeftCorner>
        <TileWidth>256</TileWidth>
        <TileHeight>256</TileHeight>
        <MatrixWidth>4</MatrixWidth>
        <MatrixHeight>4</MatrixHeight>
    </TileMatrix>
<TileMatrix>
        <ows:Identifier>3</ows:Identifier>
        <ScaleDenominator>1536000.0</ScaleDenominator>
        <TopLeftCorner>-285401.92 903401.92</TopLeftCorner>
        <TileWidth>256</TileWidth>
        <TileHeight>256</TileHeight>
        <MatrixWidth>8</MatrixWidth>
        <MatrixHeight>8</MatrixHeight>
    </TileMatrix>
<TileMatrix>
        <ows:Identifier>4</ows:Identifier>
        <ScaleDenominator>768000.0</ScaleDenominator>
        <TopLeftCorner>-285401.92 903401.92</TopLeftCorner>
        <TileWidth>256</TileWidth>
        <TileHeight>256</TileHeight>
        <MatrixWidth>16</MatrixWidth>
        <MatrixHeight>16</MatrixHeight>
    </TileMatrix>
<TileMatrix>
        <ows:Identifier>5</ows:Identifier>
        <ScaleDenominator>384000.0</ScaleDenominator>
        <TopLeftCorner>-285401.92 903401.92</TopLeftCorner>
        <TileWidth>256</TileWidth>
        <TileHeight>256</TileHeight>
        <MatrixWidth>32</MatrixWidth>
        <MatrixHeight>32</MatrixHeight>
    </TileMatrix>
<TileMatrix>
        <ows:Identifier>6</ows:Identifier>
        <ScaleDenominator>192000.0</ScaleDenominator>
        <TopLeftCorner>-285401.92 903401.92</TopLeftCorner>
        <TileWidth>256</TileWidth>
        <TileHeight>256</TileHeight>
        <MatrixWidth>64</MatrixWidth>
        <MatrixHeight>64</MatrixHeight>
    </TileMatrix>
<TileMatrix>
        <ows:Identifier>7</ows:Identifier>
        <ScaleDenominator>96000.0</ScaleDenominator>
        <TopLeftCorner>-285401.92 903401.92</TopLeftCorner>
        <TileWidth>256</TileWidth>
        <TileHeight>256</TileHeight>
        <MatrixWidth>128</MatrixWidth>
        <MatrixHeight>128</MatrixHeight>
    </TileMatrix>
<TileMatrix>
        <ows:Identifier>8</ows:Identifier>
        <ScaleDenominator>48000.0</ScaleDenominator>
        <TopLeftCorner>-285401.92 903401.92</TopLeftCorner>
        <TileWidth>256</TileWidth>
        <TileHeight>256</TileHeight>
        <MatrixWidth>256</MatrixWidth>
        <MatrixHeight>256</MatrixHeight>
    </TileMatrix>
<TileMatrix>
        <ows:Identifier>9</ows:Identifier>
        <ScaleDenominator>24000.0</ScaleDenominator>
        <TopLeftCorner>-285401.92 903401.92</TopLeftCorner>
        <TileWidth>256</TileWidth>
        <TileHeight>256</TileHeight>
        <MatrixWidth>512</MatrixWidth>
        <MatrixHeight>512</MatrixHeight>
    </TileMatrix>
<TileMatrix>
        <ows:Identifier>10</ows:Identifier>
        <ScaleDenominator>12000.0</ScaleDenominator>
        <TopLeftCorner>-285401.92 903401.92</TopLeftCorner>
        <TileWidth>256</TileWidth>
        <TileHeight>256</TileHeight>
        <MatrixWidth>1024</MatrixWidth>
        <MatrixHeight>1024</MatrixHeight>
    </TileMatrix>
<TileMatrix>
        <ows:Identifier>11</ows:Identifier>
        <ScaleDenominator>6000.0</ScaleDenominator>
        <TopLeftCorner>-285401.92 903401.92</TopLeftCorner>
        <TileWidth>256</TileWidth>
        <TileHeight>256</TileHeight>
        <MatrixWidth>2048</MatrixWidth>
        <MatrixHeight>2048</MatrixHeight>
    </TileMatrix>
<TileMatrix>
        <ows:Identifier>12</ows:Identifier>
        <ScaleDenominator>3000.0</ScaleDenominator>
        <TopLeftCorner>-285401.92 903401.92</TopLeftCorner>
        <TileWidth>256</TileWidth>
        <TileHeight>256</TileHeight>
        <MatrixWidth>4096</MatrixWidth>
        <MatrixHeight>4096</MatrixHeight>
    </TileMatrix>
<TileMatrix>
        <ows:Identifier>13</ows:Identifier>
        <ScaleDenominator>1500.0</ScaleDenominator>
        <TopLeftCorner>-285401.92 903401.92</TopLeftCorner>
        <TileWidth>256</TileWidth>
        <TileHeight>256</TileHeight>
        <MatrixWidth>8192</MatrixWidth>
        <MatrixHeight>8192</MatrixHeight>
    </TileMatrix>
<TileMatrix>
        <ows:Identifier>14</ows:Identifier>
        <ScaleDenominator>750.0</ScaleDenominator>
        <TopLeftCorner>-285401.92 903401.92</TopLeftCorner>
        <TileWidth>256</TileWidth>
        <TileHeight>256</TileHeight>
        <MatrixWidth>16384</MatrixWidth>
        <MatrixHeight>16384</MatrixHeight>
    </TileMatrix>
<TileMatrix>
        <ows:Identifier>15</ows:Identifier>
        <ScaleDenominator>375.0</ScaleDenominator>
        <TopLeftCorner>-285401.92 903401.92</TopLeftCorner>
        <TileWidth>256</TileWidth>
        <TileHeight>256</TileHeight>
        <MatrixWidth>32768</MatrixWidth>
        <MatrixHeight>32768</MatrixHeight>
    </TileMatrix>
<TileMatrix>
        <ows:Identifier>16</ows:Identifier>
        <ScaleDenominator>187.5</ScaleDenominator>
        <TopLeftCorner>-285401.92 903401.92</TopLeftCorner>
        <TileWidth>256</TileWidth>
        <TileHeight>256</TileHeight>
        <MatrixWidth>65536</MatrixWidth>
        <MatrixHeight>65536</MatrixHeight>
    </TileMatrix>
<TileMatrix>
        <ows:Identifier>17</ows:Identifier>
        <ScaleDenominator>93.75</ScaleDenominator>
        <TopLeftCorner>-285401.92 903401.92</TopLeftCorner>
        <TileWidth>256</TileWidth>
        <TileHeight>256</TileHeight>
        <MatrixWidth>131072</MatrixWidth>
        <MatrixHeight>131072</MatrixHeight>
    </TileMatrix>
            </TileMatrixSet>
            <TileMatrixSet>
                <ows:Identifier>default028mm</ows:Identifier>
                <ows:SupportedCRS>urn:ogc:def:crs:EPSG:6.3:28992</ows:SupportedCRS>
                <TileMatrix>
        <ows:Identifier>0</ows:Identifier>
        <ScaleDenominator>12288000.0</ScaleDenominator>
        <TopLeftCorner>-285401.92 903401.92</TopLeftCorner>
        <TileWidth>256</TileWidth>
        <TileHeight>256</TileHeight>
        <MatrixWidth>1</MatrixWidth>
        <MatrixHeight>1</MatrixHeight>
    </TileMatrix>
<TileMatrix>
        <ows:Identifier>1</ows:Identifier>
        <ScaleDenominator>6144000.0</ScaleDenominator>
        <TopLeftCorner>-285401.92 903401.92</TopLeftCorner>
        <TileWidth>256</TileWidth>
        <TileHeight>256</TileHeight>
        <MatrixWidth>2</MatrixWidth>
        <MatrixHeight>2</MatrixHeight>
    </TileMatrix>
<TileMatrix>
        <ows:Identifier>2</ows:Identifier>
        <ScaleDenominator>3072000.0</ScaleDenominator>
        <TopLeftCorner>-285401.92 903401.92</TopLeftCorner>
        <TileWidth>256</TileWidth>
        <TileHeight>256</TileHeight>
        <MatrixWidth>4</MatrixWidth>
        <MatrixHeight>4</MatrixHeight>
    </TileMatrix>
<TileMatrix>
        <ows:Identifier>3</ows:Identifier>
        <ScaleDenominator>1536000.0</ScaleDenominator>
        <TopLeftCorner>-285401.92 903401.92</TopLeftCorner>
        <TileWidth>256</TileWidth>
        <TileHeight>256</TileHeight>
        <MatrixWidth>8</MatrixWidth>
        <MatrixHeight>8</MatrixHeight>
    </TileMatrix>
<TileMatrix>
        <ows:Identifier>4</ows:Identifier>
        <ScaleDenominator>768000.0</ScaleDenominator>
        <TopLeftCorner>-285401.92 903401.92</TopLeftCorner>
        <TileWidth>256</TileWidth>
        <TileHeight>256</TileHeight>
        <MatrixWidth>16</MatrixWidth>
        <MatrixHeight>16</MatrixHeight>
    </TileMatrix>
<TileMatrix>
        <ows:Identifier>5</ows:Identifier>
        <ScaleDenominator>384000.0</ScaleDenominator>
        <TopLeftCorner>-285401.92 903401.92</TopLeftCorner>
        <TileWidth>256</TileWidth>
        <TileHeight>256</TileHeight>
        <MatrixWidth>32</MatrixWidth>
        <MatrixHeight>32</MatrixHeight>
    </TileMatrix>
<TileMatrix>
        <ows:Identifier>6</ows:Identifier>
        <ScaleDenominator>192000.0</ScaleDenominator>
        <TopLeftCorner>-285401.92 903401.92</TopLeftCorner>
        <TileWidth>256</TileWidth>
        <TileHeight>256</TileHeight>
        <MatrixWidth>64</MatrixWidth>
        <MatrixHeight>64</MatrixHeight>
    </TileMatrix>
<TileMatrix>
        <ows:Identifier>7</ows:Identifier>
        <ScaleDenominator>96000.0</ScaleDenominator>
        <TopLeftCorner>-285401.92 903401.92</TopLeftCorner>
        <TileWidth>256</TileWidth>
        <TileHeight>256</TileHeight>
        <MatrixWidth>128</MatrixWidth>
        <MatrixHeight>128</MatrixHeight>
    </TileMatrix>
<TileMatrix>
        <ows:Identifier>8</ows:Identifier>
        <ScaleDenominator>48000.0</ScaleDenominator>
        <TopLeftCorner>-285401.92 903401.92</TopLeftCorner>
        <TileWidth>256</TileWidth>
        <TileHeight>256</TileHeight>
        <MatrixWidth>256</MatrixWidth>
        <MatrixHeight>256</MatrixHeight>
    </TileMatrix>
<TileMatrix>
        <ows:Identifier>9</ows:Identifier>
        <ScaleDenominator>24000.0</ScaleDenominator>
        <TopLeftCorner>-285401.92 903401.92</TopLeftCorner>
        <TileWidth>256</TileWidth>
        <TileHeight>256</TileHeight>
        <MatrixWidth>512</MatrixWidth>
        <MatrixHeight>512</MatrixHeight>
    </TileMatrix>
<TileMatrix>
        <ows:Identifier>10</ows:Identifier>
        <ScaleDenominator>12000.0</ScaleDenominator>
        <TopLeftCorner>-285401.92 903401.92</TopLeftCorner>
        <TileWidth>256</TileWidth>
        <TileHeight>256</TileHeight>
